BEGIN:VCALENDAR
VERSION:2.0
PRODID:-//CiviCRM//NONSGML CiviEvent iCal//EN
X-WR-TIMEZONE:Europe/London
METHOD:PUBLISH
BEGIN:VTIMEZONE
TZID:Europe/London
BEGIN:DAYLIGHT
TZOFFSETFROM:+0100
TZOFFSETTO:+0100
TZNAME:BST
DTSTART:20260707T163000
END:DAYLIGHT
END:VTIMEZONE
BEGIN:VEVENT
UID:CiviCRM_EventID_42539_7ab9f6c619f550dc0fe2e3707d93a025@www.middletemple.org.uk
SUMMARY:The Inns of Court Alliance for Women: Cross-Profes
 sion Garden Party
X-ALT-DESC;FMTTYPE=text/html:<!DOCTYPE HTML PUBLIC
  "-//W3C//DTD HTML 3.2//EN"><html><body><html>\n <
 head>\n 	<title></title>\n </head>\n <body>\n <p>R
 egistration: 5.30pm<br />\n 6pm - 8pm<br />\n Loca
 tion: Inner Temple Garden</p>\n \n <p>Welcome by B
 arbara Mills KC\, former Chair of the Bar Council 
 and 4PB Head of Chambers.</p>\n \n <p>The Garden P
 arty is an opportunity for women barristers\, soli
 citors\, in-house lawyers\, judges\, legal academi
 cs and students of all backgrounds to come togethe
 r socially and to network\, sharing career and per
 sonal development experiences\, challenges faced a
 nd to celebrate success with an eye on the future.
  Allies most welcome.</p>\n \n <p>All food and dri
 nk included in the ticket price.</p>\n \n <p>For t
 hose making large bookings\, please limit yourself
  to 20-30 tickets max.</p>\n \n <p>Tickets: £47</p
 >\n \n <p>Book: <a href="http://www.innertemple.or
 g.uk/icaw2026">www.innertemple.org.uk/icaw2026</a>
  (Non-Inner Temple members: Scroll beneath Members
  Login box and click 'Add Ticket')</p>\n </body>\n
  </html></body></html>
DESCRIPTION:\n \n 	\n \n \n Registration: 5.30pm\n \n 6pm - 8p
 m\n \n Location: Inner Temple Garden\n \n \n \n We
 lcome by Barbara Mills KC\, former Chair of the Ba
 r Council and 4PB Head of Chambers.\n \n \n \n The
  Garden Party is an opportunity for women barriste
 rs\, solicitors\, in-house lawyers\, judges\, lega
 l academics and students of all backgrounds to com
 e together socially and to network\, sharing caree
 r and personal development experiences\, challenge
 s faced and to celebrate success with an eye on th
 e future. Allies most welcome.\n \n \n \n All food
  and drink included in the ticket price.\n \n \n \
 n For those making large bookings\, please limit y
 ourself to 20-30 tickets max.\n \n \n \n Tickets: 
 £47\n \n \n \n Book: www.innertemple.org.uk/icaw20
 26 (http://www.innertemple.org.uk/icaw2026) (Non-I
 nner Temple members: Scroll beneath Members Login 
 box and click 'Add Ticket')\n \n \n \n 
CATEGORIES:OTHER DOMUS
CALSCALE:GREGORIAN
DTSTAMP;TZID=Europe/London:20260707T173000
DTSTART;TZID=Europe/London:20260707T173000
DTEND;TZID=Europe/London:20260707T200000
LOCATION:Inner Temple Garden\n United Kingdom\n 
URL:https://www.middletemple.org.uk/civicrm/event/info?reset=1&id=42539
END:VEVENT
END:VCALENDAR
