BEGIN:VCALENDAR
VERSION:2.0
PRODID:-//CiviCRM//NONSGML CiviEvent iCal//EN
X-WR-TIMEZONE:Europe/London
METHOD:PUBLISH
BEGIN:VTIMEZONE
TZID:Europe/London
BEGIN:DAYLIGHT
TZOFFSETFROM:+0100
TZOFFSETTO:+0100
TZNAME:BST
DTSTART:20260713T164500
END:DAYLIGHT
END:VTIMEZONE
BEGIN:VEVENT
UID:CiviCRM_EventID_42538_7ab9f6c619f550dc0fe2e3707d93a025@www.middletemple.org.uk
SUMMARY:Sherrard Conversation | Honoured
X-ALT-DESC;FMTTYPE=text/html:<!DOCTYPE HTML PUBLIC
  "-//W3C//DTD HTML 3.2//EN"><html><body><html>\n <
 head>\n 	<title></title>\n </head>\n <body>\n <p>J
 oin HHJ Khatun Sapnara in conversation with Naz Sh
 ah MP.</p>\n \n <p>Naz Shah has recently published
  a memoir called “Honoured” in which she discusses
  matters such as her mother’s incarceration for mu
 rder of her abusive ex- partner\, Naz’s campaign t
 o have her freed or otherwise reduce her sentence\
 , her own forced marriage\, issues of shame and ho
 nour in the Pakistani community in Bradford\, patr
 iarchal clan politics imported to UK from rural Pa
 kistan\, and fighting and winning against George G
 alloway in the general election in 2015. In this c
 onversation she will talk about these life experie
 nces and her experience of the law.</p>\n \n <p><e
 m>Student members (including transferring lawyers)
  must attend all elements of the event in order to
  be awarded the Qualifying Session. This includes 
 any lecture/talk/reception/dinner/speeches.</em><b
 r />\n &nbsp\;</p>\n </body>\n </html></body></htm
 l>
DESCRIPTION:\n \n 	\n \n \n Join HHJ Khatun Sapnara in convers
 ation with Naz Shah MP.\n \n \n \n Naz Shah has re
 cently published a memoir called “Honoured” in whi
 ch she discusses matters such as her mother’s inca
 rceration for murder of her abusive ex- partner\, 
 Naz’s campaign to have her freed or otherwise redu
 ce her sentence\, her own forced marriage\, issues
  of shame and honour in the Pakistani community in
  Bradford\, patriarchal clan politics imported to 
 UK from rural Pakistan\, and fighting and winning 
 against George Galloway in the general election in
  2015. In this conversation she will talk about th
 ese life experiences and her experience of the law
 .\n \n \n \n Student members (including transferri
 ng lawyers) must attend all elements of the event 
 in order to be awarded the Qualifying Session. Thi
 s includes any lecture/talk/reception/dinner/speec
 hes.\n \n  \n \n \n \n 
CATEGORIES:Domus Function
CALSCALE:GREGORIAN
DTSTAMP;TZID=Europe/London:20260713T174500
DTSTART;TZID=Europe/London:20260713T174500
DTEND;TZID=Europe/London:20260713T203000
LOCATION:Sherrard Room\n Ashley Building\n Middle Temple La
 ne\n London\, EC4Y 9BT\n United Kingdom\n 
URL:https://www.middletemple.org.uk/civicrm/event/info?reset=1&id=42538
END:VEVENT
END:VCALENDAR
