BEGIN:VCALENDAR
VERSION:2.0
PRODID:-//CiviCRM//NONSGML CiviEvent iCal//EN
X-WR-TIMEZONE:Europe/London
METHOD:PUBLISH
BEGIN:VTIMEZONE
TZID:Europe/London
BEGIN:DAYLIGHT
TZOFFSETFROM:+0100
TZOFFSETTO:+0100
TZNAME:BST
DTSTART:20260701T170000
END:DAYLIGHT
END:VTIMEZONE
BEGIN:VEVENT
UID:CiviCRM_EventID_42537_7ab9f6c619f550dc0fe2e3707d93a025@www.middletemple.org.uk
SUMMARY:Philosophy & the Law | Professor Sandy Steel
X-ALT-DESC;FMTTYPE=text/html:<!DOCTYPE HTML PUBLIC
  "-//W3C//DTD HTML 3.2//EN"><html><body><html>\n <
 head>\n 	<title></title>\n </head>\n <body>\n <p><
 u><strong>Prof. Sandy Steel</strong></u></p>\n \n 
 <p>Further details TBC.</p>\n \n <p><em>Student me
 mbers (including transferring lawyers) must attend
  all elements of the event in order to be awarded 
 the Qualifying Session. This includes any lecture/
 talk/reception/dinner/speeches.</em><br />\n &nbsp
 \;</p>\n </body>\n </html></body></html>
DESCRIPTION:\n \n 	\n \n \n Prof. Sandy Steel\n \n \n \n Furth
 er details TBC.\n \n \n \n Student members (includ
 ing transferring lawyers) must attend all elements
  of the event in order to be awarded the Qualifyin
 g Session. This includes any lecture/talk/receptio
 n/dinner/speeches.\n \n  \n \n \n \n 
CATEGORIES:Domus Function
CALSCALE:GREGORIAN
DTSTAMP;TZID=Europe/London:20260701T180000
DTSTART;TZID=Europe/London:20260701T180000
DTEND;TZID=Europe/London:20260701T203000
LOCATION:Sherrard Room\n Ashley Building\n Middle Temple La
 ne\n London\, EC4Y 9BT\n United Kingdom\n 
URL:https://www.middletemple.org.uk/civicrm/event/info?reset=1&id=42537
END:VEVENT
END:VCALENDAR
