BEGIN:VCALENDAR
VERSION:2.0
PRODID:-//CiviCRM//NONSGML CiviEvent iCal//EN
X-WR-TIMEZONE:Europe/London
METHOD:PUBLISH
BEGIN:VTIMEZONE
TZID:Europe/London
BEGIN:DAYLIGHT
TZOFFSETFROM:+0100
TZOFFSETTO:+0100
TZNAME:BST
DTSTART:20260602T164500
END:DAYLIGHT
END:VTIMEZONE
BEGIN:VEVENT
UID:CiviCRM_EventID_42536_7ab9f6c619f550dc0fe2e3707d93a025@www.middletemple.org.uk
SUMMARY:Larva to chrysalis to butterfly [ONLINE]
X-ALT-DESC;FMTTYPE=text/html:<!DOCTYPE HTML PUBLIC
  "-//W3C//DTD HTML 3.2//EN"><html><body><html>\n <
 head>\n 	<title></title>\n </head>\n <body>\n <div
  style="background:#eeeeee\;border:1px solid #cccc
 cc\;padding:5px 10px\;">This event is taking place
  in the Sherrard Room AND will be streamed live. T
 his page is for tickets to attend ONLINE. To book 
 a ticket to attend in person <a href="https://www.
 middletemple.org.uk/civicrm/event/info?id=42535&am
 p\;reset=1">CLICK HERE.</a></div>\n \n <p><strong>
 What you need to know as you transition from law s
 tudent through pupillage to independent practice a
 t the Bar.</strong></p>\n \n <p>In the first part 
 of the talk\, Master Reader (Eleanor Sharpston KC)
  will be focusing on the intellectual and personal
  transition from being a law student to being a yo
 ung barrister. Law students can expatiate on an in
 teresting problem without having to reach a conclu
 ded view. Practitioners need to nail their colours
  to the mast\, examine all the peripheral issues t
 hat may make the difference between success and fa
 ilure\, and impress their instructing solicitors w
 ith their efficiency and professionalism.</p>\n \n
  <p>After a short break\, she and Kieron Beal KC (
 Blackstone Chambers) will move on to the second pa
 rt of the talk. Together they will highlight some 
 of the practical aspects of keeping your head abov
 e (regulatory and commercial) water in your new in
 carnation. On the menu: a friendly look at the joy
 s of VAT registration\, GDPR registration\, accoun
 t keeping\, practice management and marketing.&nbs
 p\;</p>\n \n <hr />\n <p style="color: rgb(170\, 1
 70\, 170)\; font-style: italic\;">Student members 
 (including transferring lawyers) must attend all e
 lements of the event in order to be awarded the Qu
 alifying Session. This includes any lecture/talk/r
 eception/dinner/speeches.</p>\n </body>\n </html><
 /body></html>
DESCRIPTION:\n \n 	\n \n \n This event is taking place in the 
 Sherrard Room AND will be streamed live. This page
  is for tickets to attend ONLINE. To book a ticket
  to attend in person CLICK HERE. (https://www.midd
 letemple.org.uk/civicrm/event/info?id=42535&reset=
 1)\n \n \n What you need to know as you transition
  from law student through pupillage to independent
  practice at the Bar.\n \n \n \n In the first part
  of the talk\, Master Reader (Eleanor Sharpston KC
 ) will be focusing on the intellectual and persona
 l transition from being a law student to being a y
 oung barrister. Law students can expatiate on an i
 nteresting problem without having to reach a concl
 uded view. Practitioners need to nail their colour
 s to the mast\, examine all the peripheral issues 
 that may make the difference between success and f
 ailure\, and impress their instructing solicitors 
 with their efficiency and professionalism.\n \n \n
  \n After a short break\, she and Kieron Beal KC (
 Blackstone Chambers) will move on to the second pa
 rt of the talk. Together they will highlight some 
 of the practical aspects of keeping your head abov
 e (regulatory and commercial) water in your new in
 carnation. On the menu: a friendly look at the joy
 s of VAT registration\, GDPR registration\, accoun
 t keeping\, practice management and marketing. \n 
 \n \n \n \n Student members (including transferrin
 g lawyers) must attend all elements of the event i
 n order to be awarded the Qualifying Session. This
  includes any lecture/talk/reception/dinner/speech
 es.\n \n \n \n 
CATEGORIES:Domus Function
CALSCALE:GREGORIAN
DTSTAMP;TZID=Europe/London:20260602T174500
DTSTART;TZID=Europe/London:20260602T174500
DTEND;TZID=Europe/London:20260602T203000
LOCATION:Online via Zoom (the joining link will be circulat
 ed via email\, usually on the day of the event. If
  you do not receive this email by 12noon on the da
 y of the event (and it is not in your email junk/s
 pam)\, contact the Inn asap and before 16:00)\n Un
 ited Kingdom\n 
URL:https://www.middletemple.org.uk/civicrm/event/info?reset=1&id=42536
END:VEVENT
END:VCALENDAR
