BEGIN:VCALENDAR
VERSION:2.0
PRODID:-//CiviCRM//NONSGML CiviEvent iCal//EN
X-WR-TIMEZONE:Europe/London
METHOD:PUBLISH
BEGIN:VTIMEZONE
TZID:Europe/London
BEGIN:DAYLIGHT
TZOFFSETFROM:+0100
TZOFFSETTO:+0100
TZNAME:BST
DTSTART:20260602T164500
END:DAYLIGHT
END:VTIMEZONE
BEGIN:VEVENT
UID:CiviCRM_EventID_42535_7ab9f6c619f550dc0fe2e3707d93a025@www.middletemple.org.uk
SUMMARY:Larva to chrysalis to butterfly
X-ALT-DESC;FMTTYPE=text/html:<!DOCTYPE HTML PUBLIC
  "-//W3C//DTD HTML 3.2//EN"><html><body><html>\n <
 head>\n 	<title></title>\n </head>\n <body>\n <div
  style="background:#eeeeee\;border:1px solid #cccc
 cc\;padding:5px 10px\;">This event is taking place
  in the Sherrard Room AND will be streamed live. T
 his page is for tickets to attend IN PERSON. To bo
 ok a virtual ticket to attend online <a href="http
 s://www.middletemple.org.uk/civicrm/event/info?res
 et=1&amp\;id=42536">CLICK HERE</a><a href="https:/
 /www.middletemple.org.uk/civicrm/event/info?id=425
 35&amp\;reset=1">.</a></div>\n \n <p><strong>What 
 you need to know as you transition from law studen
 t through pupillage to independent practice at the
  Bar.</strong></p>\n \n <p>In the first part of th
 e talk\, Master Reader (Eleanor Sharpston KC) will
  be focusing on the intellectual and personal tran
 sition from being a law student to being a young b
 arrister. Law students can expatiate on an interes
 ting problem without having to reach a concluded v
 iew. Practitioners need to nail their colours to t
 he mast\, examine all the peripheral issues that m
 ay make the difference between success and failure
 \, and impress their instructing solicitors with t
 heir efficiency and professionalism.</p>\n \n <p>A
 fter a short break\, she and Kieron Beal KC (Black
 stone Chambers) will move on to the second part of
  the talk. Together they will highlight some of th
 e practical aspects of keeping your head above (re
 gulatory and commercial) water in your new incarna
 tion. On the menu: a friendly look at the joys of 
 VAT registration\, GDPR registration\, account kee
 ping\, practice management and marketing.&nbsp\;</
 p>\n \n <hr />\n <p style="color: rgb(170\, 170\, 
 170)\; font-style: italic\;">Student members (incl
 uding transferring lawyers) must attend all elemen
 ts of the event in order to be awarded the Qualify
 ing Session. This includes any lecture/talk/recept
 ion/dinner/speeches.</p>\n </body>\n </html></body
 ></html>
DESCRIPTION:\n \n 	\n \n \n This event is taking place in the 
 Sherrard Room AND will be streamed live. This page
  is for tickets to attend IN PERSON. To book a vir
 tual ticket to attend online CLICK HERE (https://w
 ww.middletemple.org.uk/civicrm/event/info?reset=1&
 id=42536). (https://www.middletemple.org.uk/civicr
 m/event/info?id=42535&reset=1)\n \n \n What you ne
 ed to know as you transition from law student thro
 ugh pupillage to independent practice at the Bar.\
 n \n \n \n In the first part of the talk\, Master 
 Reader (Eleanor Sharpston KC) will be focusing on 
 the intellectual and personal transition from bein
 g a law student to being a young barrister. Law st
 udents can expatiate on an interesting problem wit
 hout having to reach a concluded view. Practitione
 rs need to nail their colours to the mast\, examin
 e all the peripheral issues that may make the diff
 erence between success and failure\, and impress t
 heir instructing solicitors with their efficiency 
 and professionalism.\n \n \n \n After a short brea
 k\, she and Kieron Beal KC (Blackstone Chambers) w
 ill move on to the second part of the talk. Togeth
 er they will highlight some of the practical aspec
 ts of keeping your head above (regulatory and comm
 ercial) water in your new incarnation. On the menu
 : a friendly look at the joys of VAT registration\
 , GDPR registration\, account keeping\, practice m
 anagement and marketing. \n \n \n \n \n Student me
 mbers (including transferring lawyers) must attend
  all elements of the event in order to be awarded 
 the Qualifying Session. This includes any lecture/
 talk/reception/dinner/speeches.\n \n \n \n 
CATEGORIES:Domus Function
CALSCALE:GREGORIAN
DTSTAMP;TZID=Europe/London:20260602T174500
DTSTART;TZID=Europe/London:20260602T174500
DTEND;TZID=Europe/London:20260602T203000
LOCATION:Sherrard Room\n Ashley Building\n Middle Temple La
 ne\n London\, EC4Y 9BT\n United Kingdom\n 
URL:https://www.middletemple.org.uk/civicrm/event/info?reset=1&id=42535
END:VEVENT
END:VCALENDAR
