BEGIN:VCALENDAR
VERSION:2.0
PRODID:-//CiviCRM//NONSGML CiviEvent iCal//EN
X-WR-TIMEZONE:Europe/London
METHOD:PUBLISH
BEGIN:VTIMEZONE
TZID:Europe/London
BEGIN:DAYLIGHT
TZOFFSETFROM:+0100
TZOFFSETTO:+0100
TZNAME:BST
DTSTART:20260724T173000
END:DAYLIGHT
END:VTIMEZONE
BEGIN:VEVENT
UID:CiviCRM_EventID_42527_7ab9f6c619f550dc0fe2e3707d93a025@www.middletemple.org.uk
SUMMARY:Bench Call
X-ALT-DESC;FMTTYPE=text/html:<!DOCTYPE HTML PUBLIC
  "-//W3C//DTD HTML 3.2//EN"><html><body><html>\n <
 head>\n 	<title></title>\n </head>\n <body data-gr
 -ext-installed="" data-new-gr-c-s-check-loaded="14
 .1248.0" data-new-gr-c-s-loaded="14.1248.0">\n <p>
 A dinner for Benchers and members of the Inn at wh
 ich there is a ceremony to Call elected members to
  the Bench.</p>\n \n <p>The Callees are Called to 
 the Bench before dinner\, then asked to take their
  place at the High Table. After dinner each new Be
 ncher will&nbsp\;give a short speech.&nbsp\;</p>\n
  \n <hr />\n <p style="color: rgb(170\, 170\, 170)
 \; font-style: italic\;"><em>Please note that ther
 e are certain&nbsp\;<a href="http://www.middletemp
 le.org.uk/rules-and-customs">rules and customs</a>
  that members and guests are expected to observe w
 hen attending formal Qualifying Sessions at the In
 n.&nbsp\;&nbsp\;</em></p>\n <grammarly-desktop-int
 egration data-grammarly-shadow-root="true"></gramm
 arly-desktop-integration></body>\n </html></body><
 /html>
DESCRIPTION:\n \n 	\n \n \n A dinner for Benchers and members 
 of the Inn at which there is a ceremony to Call el
 ected members to the Bench.\n \n \n \n The Callees
  are Called to the Bench before dinner\, then aske
 d to take their place at the High Table. After din
 ner each new Bencher will give a short speech. \n 
 \n \n \n \n Please note that there are certain rul
 es and customs (http://www.middletemple.org.uk/rul
 es-and-customs) that members and guests are expect
 ed to observe when attending formal Qualifying Ses
 sions at the Inn.  \n \n \n \n 
CATEGORIES:Domus Function
CALSCALE:GREGORIAN
DTSTAMP;TZID=Europe/London:20260724T183000
DTSTART;TZID=Europe/London:20260724T183000
DTEND;TZID=Europe/London:20260724T220000
LOCATION:Middle Temple Bench Apartments\n United Kingdom\n 
URL:https://www.middletemple.org.uk/civicrm/event/info?reset=1&id=42527
END:VEVENT
END:VCALENDAR
