BEGIN:VCALENDAR
VERSION:2.0
PRODID:-//CiviCRM//NONSGML CiviEvent iCal//EN
X-WR-TIMEZONE:Europe/London
METHOD:PUBLISH
BEGIN:VTIMEZONE
TZID:Europe/London
BEGIN:DAYLIGHT
TZOFFSETFROM:+0100
TZOFFSETTO:+0100
TZNAME:BST
DTSTART:20261016T170000
END:DAYLIGHT
END:VTIMEZONE
BEGIN:VEVENT
UID:CiviCRM_EventID_42510_7ab9f6c619f550dc0fe2e3707d93a025@www.middletemple.org.uk
SUMMARY:Midland Circuit Amity Dinner
X-ALT-DESC;FMTTYPE=text/html:<!DOCTYPE HTML PUBLIC
  "-//W3C//DTD HTML 3.2//EN"><html><body><html>\n <
 head>\n 	<title></title>\n </head>\n <body>\n <p>W
 e are delighted to be hosting this year’s Amity Di
 nner with Inner Temple on the Midland Circuit.&nbs
 p\;</p>\n \n <p>We hope that many Middle Templars 
 on Circuit\, and those from London\, will join us 
 to celebrate the collegiality between our two Inns
  and our members. Held at the Hotel du Vin\, the e
 vening will begin with a QS for Middle Temple stud
 ents\, followed by a sparkling reception and three
 -course dinner.</p>\n \n <hr />\n <p><em>Inner Tem
 ple members should book via the Inner Temple websi
 te.</em></p>\n </body>\n </html></body></html>
DESCRIPTION:\n \n 	\n \n \n We are delighted to be hosting thi
 s year’s Amity Dinner with Inner Temple on the Mid
 land Circuit. \n \n \n \n We hope that many Middle
  Templars on Circuit\, and those from London\, wil
 l join us to celebrate the collegiality between ou
 r two Inns and our members. Held at the Hotel du V
 in\, the evening will begin with a QS for Middle T
 emple students\, followed by a sparkling reception
  and three-course dinner.\n \n \n \n \n Inner Temp
 le members should book via the Inner Temple websit
 e.\n \n \n \n 
CATEGORIES:Domus Function
CALSCALE:GREGORIAN
DTSTAMP;TZID=Europe/London:20261016T180000
DTSTART;TZID=Europe/London:20261016T180000
DTEND;TZID=Europe/London:20261016T230000
LOCATION:Hotel du Vin\, Birmingham\n Church Street\,\n Birm
 ingham\,\, B3 2NR\n United Kingdom\n 
URL:https://www.middletemple.org.uk/civicrm/event/info?reset=1&id=42510
END:VEVENT
END:VCALENDAR
