BEGIN:VCALENDAR
VERSION:2.0
PRODID:-//CiviCRM//NONSGML CiviEvent iCal//EN
X-WR-TIMEZONE:Europe/London
METHOD:PUBLISH
BEGIN:VTIMEZONE
TZID:Europe/London
BEGIN:DAYLIGHT
TZOFFSETFROM:+0100
TZOFFSETTO:+0100
TZNAME:BST
DTSTART:20260427T170000
END:DAYLIGHT
END:VTIMEZONE
BEGIN:VEVENT
UID:CiviCRM_EventID_42473_7ab9f6c619f550dc0fe2e3707d93a025@www.middletemple.org.uk
SUMMARY:Treasurer's Lecture | The Hon Mrs Justice Farbey D
 BE | The Characteristics of Justice [ONLINE]
X-ALT-DESC;FMTTYPE=text/html:<!DOCTYPE HTML PUBLIC
  "-//W3C//DTD HTML 3.2//EN"><html><body><html>\n <
 head>\n 	<title></title>\n </head>\n <body data-gr
 -ext-installed="" data-new-gr-c-s-check-loaded="14
 .1270.0" data-new-gr-c-s-loaded="14.1270.0">\n <di
 v style="background:#eeeeee\;border:1px solid #ccc
 ccc\;padding:5px 10px\;">This event is taking plac
 e in Temple Church AND will be streamed live. <str
 ong>This page is for tickets&nbsp\;to attend ONLIN
 E. </strong>To book an in person ticket&nbsp\;<a h
 ref="https://www.middletemple.org.uk/civicrm/event
 /info?reset=1&amp\;id=42408">CLICK HERE</a>. We wi
 ll not be able to admit anyone in person with a vi
 rtual ticket.</div>\n \n <p>Join us for a lecture 
 from&nbsp\;The Hon Mrs Justice Farbey.</p>\n \n <p
 >The Characteristics of Justice will be a lecture 
 about the concept of justice and the principles un
 derlying a justice system. Whether you are a stude
 nt\, pupil or barrister\, you are involved every d
 ay with thinking about justice and the justice sys
 tem.&nbsp\; This lecture will provide attendees wi
 th a chance to stand back and think about what lie
 s behind our daily work.&nbsp\; What are the chara
 cteristics of just laws?&nbsp\; How may the legal 
 system promote just laws?&nbsp\; Drawing on philos
 ophy\, domestic and international law\, this lectu
 re will attempt to answer these questions and stim
 ulate discussion. &nbsp\;&nbsp\;&nbsp\;&nbsp\;&nbs
 p\;&nbsp\;</p>\n <grammarly-desktop-integration da
 ta-grammarly-shadow-root="true"></grammarly-deskto
 p-integration></body>\n </html></body></html>
DESCRIPTION:\n \n 	\n \n \n This event is taking place in Temp
 le Church AND will be streamed live. This page is 
 for tickets to attend ONLINE. To book an in person
  ticket CLICK HERE (https://www.middletemple.org.u
 k/civicrm/event/info?reset=1&id=42408). We will no
 t be able to admit anyone in person with a virtual
  ticket.\n \n \n Join us for a lecture from The Ho
 n Mrs Justice Farbey.\n \n \n \n The Characteristi
 cs of Justice will be a lecture about the concept 
 of justice and the principles underlying a justice
  system. Whether you are a student\, pupil or barr
 ister\, you are involved every day with thinking a
 bout justice and the justice system.  This lecture
  will provide attendees with a chance to stand bac
 k and think about what lies behind our daily work.
   What are the characteristics of just laws?  How 
 may the legal system promote just laws?  Drawing o
 n philosophy\, domestic and international law\, th
 is lecture will attempt to answer these questions 
 and stimulate discussion.       \n \n \n \n 
CATEGORIES:Domus Function
CALSCALE:GREGORIAN
DTSTAMP;TZID=Europe/London:20260427T180000
DTSTART;TZID=Europe/London:20260427T180000
DTEND;TZID=Europe/London:20260427T191500
LOCATION:Online via Zoom (the joining link will be circulat
 ed via email\, usually on the day of the event. If
  you do not receive this email by 12noon on the da
 y of the event (and it is not in your email junk/s
 pam)\, contact the Inn asap and before 16:00)\n Un
 ited Kingdom\n 
URL:https://www.middletemple.org.uk/civicrm/event/info?reset=1&id=42473
END:VEVENT
END:VCALENDAR
