BEGIN:VCALENDAR
VERSION:2.0
PRODID:-//CiviCRM//NONSGML CiviEvent iCal//EN
X-WR-TIMEZONE:Europe/London
METHOD:PUBLISH
BEGIN:VTIMEZONE
TZID:Europe/London
BEGIN:DAYLIGHT
TZOFFSETFROM:+0100
TZOFFSETTO:+0100
TZNAME:BST
DTSTART:20260621T120000
END:DAYLIGHT
END:VTIMEZONE
BEGIN:VEVENT
UID:CiviCRM_EventID_42437_7ab9f6c619f550dc0fe2e3707d93a025@www.middletemple.org.uk
SUMMARY:Sunday Lunch for Father's Day
X-ALT-DESC;FMTTYPE=text/html:<!DOCTYPE HTML PUBLIC
  "-//W3C//DTD HTML 3.2//EN"><html><body><html>\n <
 head>\n 	<title></title>\n </head>\n <body data-gr
 -ext-installed="" data-new-gr-c-s-check-loaded="14
 .1260.0" data-new-gr-c-s-loaded="14.1260.0">\n <di
 v style="background:#eeeeee\;border:1px solid #ccc
 ccc\;padding:5px 10px\;">Please note: access to th
 e Inn at the weekend is via Tudor Street.&nbsp\;<a
  href="https://www.middletemple.org.uk/about-us/co
 ntact-us/how-to-find-us">Click here for more detai
 ls.</a></div>\n \n <p>&nbsp\;There is a service in
  Temple Church at 11:15 – all welcome (optional).&
 nbsp\;</p>\n \n <hr />\n <p>Join us with family\, 
 friends or colleagues to celebrate Father's Day.</
 p>\n \n <p><em>Please note that there are certain&
 nbsp\;<a href="http://www.middletemple.org.uk/rule
 s-and-customs">rules and customs</a> that members 
 and guests are expected to observe when attending 
 formal dinners at the Inn.&nbsp\;&nbsp\;</em></p>\
 n <grammarly-desktop-integration data-grammarly-sh
 adow-root="true"></grammarly-desktop-integration><
 /body>\n </html></body></html>
DESCRIPTION:\n \n 	\n \n \n Please note: access to the Inn at 
 the weekend is via Tudor Street. Click here for mo
 re details. (https://www.middletemple.org.uk/about
 -us/contact-us/how-to-find-us)\n \n \n  There is a
  service in Temple Church at 11:15 – all welcome (
 optional). \n \n \n \n \n Join us with family\, fr
 iends or colleagues to celebrate Father's Day.\n \
 n \n \n Please note that there are certain rules a
 nd customs (http://www.middletemple.org.uk/rules-a
 nd-customs) that members and guests are expected t
 o observe when attending formal dinners at the Inn
 .  \n \n \n \n 
CATEGORIES:Domus Function
CALSCALE:GREGORIAN
DTSTAMP;TZID=Europe/London:20260621T130000
DTSTART;TZID=Europe/London:20260621T130000
DTEND;TZID=Europe/London:20260621T150000
LOCATION:Middle Temple Hall\n Middle Temple\n London\, EC4Y
  9AT\n United Kingdom\n 
URL:https://www.middletemple.org.uk/civicrm/event/info?reset=1&id=42437
END:VEVENT
END:VCALENDAR
