BEGIN:VCALENDAR
VERSION:2.0
PRODID:-//CiviCRM//NONSGML CiviEvent iCal//EN
X-WR-TIMEZONE:Europe/London
METHOD:PUBLISH
BEGIN:VTIMEZONE
TZID:Europe/London
BEGIN:DAYLIGHT
TZOFFSETFROM:+0100
TZOFFSETTO:+0100
TZNAME:BST
DTSTART:20260520T173000
END:DAYLIGHT
END:VTIMEZONE
BEGIN:VEVENT
UID:CiviCRM_EventID_42303_7ab9f6c619f550dc0fe2e3707d93a025@www.middletemple.org.uk
SUMMARY:Reader's Feast | Dame Eleanor Sharpston DCMG KC | 
 The Rule of Law in a Fluid\, Dangerous World
X-ALT-DESC;FMTTYPE=text/html:<!DOCTYPE HTML PUBLIC
  "-//W3C//DTD HTML 3.2//EN"><html><body><html>\n <
 head>\n 	<title></title>\n </head>\n <body data-gr
 -ext-installed="" data-new-gr-c-s-check-loaded="14
 .1269.0" data-new-gr-c-s-loaded="14.1269.0">\n <h3
 >This dinner in Hall is followed by a reading by t
 he Lent Reader&nbsp\;Master Eleanor Sharpston to c
 elebrate her time in office.&nbsp\;</h3>\n \n <p>F
 or decades the rule of law was almost a given in -
  and between - many nations. No longer.</p>\n \n <
 p>In her reading\, Master Sharpston will consider 
 the rule of law\; what it entails\, why it matters
 \, and what can you do about it.</p>\n \n <hr />\n
  <p><strong><u>Menu</u></strong></p>\n \n <p><stro
 ng>Starter:&nbsp\;</strong>Herefordshire Beef Carp
 accio\, Pickled Radish\, Summer Truffe\, Nasturtiu
 m&nbsp\;</p>\n \n <p>Vegetarian alternative:&nbsp\
 ;Wykham Park Asparagus\, Black Garlic Ketchup\, Co
 ddled Egg Rapeseed Mayonnaise\, Old Winchester Cri
 sp (V)</p>\n \n <p><strong>Main:&nbsp\;</strong>Ro
 asted Rye Bay Skate Wing\, Basil Potato Puree\, Pi
 perade\, Marsh Samphire Brown Butter</p>\n \n <p>V
 egetarian alternative:&nbsp\;Red Pepper and Ashlyn
 n Goats Cheese Tortellini\,&nbsp\;Asparagus\, Youn
 g Leeks\, Wild Garlic Cream</p>\n \n <p><strong>De
 ssert:&nbsp\;</strong>Valrhona Dark Chocolate Déli
 ce\, English Raspberries\, Cocoa Nib Cream</p>\n \
 n <hr />\n <p style="color: rgb(170\, 170\, 170)\;
  font-style: italic\;">Student members (including 
 transferring lawyers) must attend all elements of 
 the event in order to be awarded the Qualifying Se
 ssion. This includes any lecture/talk/reception/di
 nner/speeches.</p>\n \n <p style="color: rgb(170\,
  170\, 170)\; font-style: italic\;">Please note th
 at there are certain&nbsp\;<a href="http://www.mid
 dletemple.org.uk/rules-and-customs">rules and cust
 oms</a> that members and guests are expected to ob
 serve when attending formal dinners at the Inn.</p
 >\n <grammarly-desktop-integration data-grammarly-
 shadow-root="true"></grammarly-desktop-integration
 ></body>\n </html></body></html>
DESCRIPTION:\n \n 	\n \n \n This dinner in Hall is followed by
  a reading by the Lent Reader Master Eleanor Sharp
 ston to celebrate her time in office. \n \n \n For
  decades the rule of law was almost a given in - a
 nd between - many nations. No longer.\n \n \n \n I
 n her reading\, Master Sharpston will consider the
  rule of law\; what it entails\, why it matters\, 
 and what can you do about it.\n \n \n \n \n Menu\n
  \n \n \n Starter: Herefordshire Beef Carpaccio\, 
 Pickled Radish\, Summer Truffe\, Nasturtium \n \n 
 \n \n Vegetarian alternative: Wykham Park Asparagu
 s\, Black Garlic Ketchup\, Coddled Egg Rapeseed Ma
 yonnaise\, Old Winchester Crisp (V)\n \n \n \n Mai
 n: Roasted Rye Bay Skate Wing\, Basil Potato Puree
 \, Piperade\, Marsh Samphire Brown Butter\n \n \n 
 \n Vegetarian alternative: Red Pepper and Ashlynn 
 Goats Cheese Tortellini\, Asparagus\, Young Leeks\
 , Wild Garlic Cream\n \n \n \n Dessert: Valrhona D
 ark Chocolate Délice\, English Raspberries\, Cocoa
  Nib Cream\n \n \n \n \n Student members (includin
 g transferring lawyers) must attend all elements o
 f the event in order to be awarded the Qualifying 
 Session. This includes any lecture/talk/reception/
 dinner/speeches.\n \n \n \n Please note that there
  are certain rules and customs (http://www.middlet
 emple.org.uk/rules-and-customs) that members and g
 uests are expected to observe when attending forma
 l dinners at the Inn.\n \n \n \n 
CATEGORIES:Domus Function
CALSCALE:GREGORIAN
DTSTAMP;TZID=Europe/London:20260520T183000
DTSTART;TZID=Europe/London:20260520T183000
DTEND;TZID=Europe/London:20260520T220000
LOCATION:Middle Temple Hall\n Middle Temple\n London\, EC4Y
  9AT\n United Kingdom\n 
URL:https://www.middletemple.org.uk/civicrm/event/info?reset=1&id=42303
END:VEVENT
END:VCALENDAR
